BEGIN:VCALENDAR
VERSION:2.0
PRODID:-//Blackwood Guitarworks - ECPv6.15.11//NONSGML v1.0//EN
CALSCALE:GREGORIAN
METHOD:PUBLISH
X-ORIGINAL-URL:https://www.blackwoodguitarworks.com
X-WR-CALDESC:Events for Blackwood Guitarworks
REFRESH-INTERVAL;VALUE=DURATION:PT1H
X-Robots-Tag:noindex
X-PUBLISHED-TTL:PT1H
BEGIN:VTIMEZONE
TZID:America/Vancouver
BEGIN:DAYLIGHT
TZOFFSETFROM:-0800
TZOFFSETTO:-0700
TZNAME:PDT
DTSTART:20230312T100000
END:DAYLIGHT
BEGIN:STANDARD
TZOFFSETFROM:-0700
TZOFFSETTO:-0800
TZNAME:PST
DTSTART:20231105T090000
END:STANDARD
BEGIN:DAYLIGHT
TZOFFSETFROM:-0800
TZOFFSETTO:-0700
TZNAME:PDT
DTSTART:20240310T100000
END:DAYLIGHT
BEGIN:STANDARD
TZOFFSETFROM:-0700
TZOFFSETTO:-0800
TZNAME:PST
DTSTART:20241103T090000
END:STANDARD
BEGIN:DAYLIGHT
TZOFFSETFROM:-0800
TZOFFSETTO:-0700
TZNAME:PDT
DTSTART:20250309T100000
END:DAYLIGHT
BEGIN:STANDARD
TZOFFSETFROM:-0700
TZOFFSETTO:-0800
TZNAME:PST
DTSTART:20251102T090000
END:STANDARD
END:VTIMEZONE
BEGIN:VEVENT
DTSTART;TZID=America/Vancouver:20241012T000000
DTEND;TZID=America/Vancouver:20241012T235959
DTSTAMP:20260424T015333
CREATED:20240726T202300Z
LAST-MODIFIED:20241211T175430Z
UID:10000036-1728691200-1728777599@www.blackwoodguitarworks.com
SUMMARY:SOLD OUT - Precision Electric Guitar Setup Class Oct. 12 (Los Angeles\, CA)
DESCRIPTION:The Precision Electric Guitar Setup Class (in-person)\nThis is our rock-solid Guitar Setup Class that has set the benchmark for all our classes. Exclusively offered 1-2 times per year w/ optional add-on class Guitar Maintenance & Electronic Repair (on select dates/locations only). Be part of this exclusive workshop & learn the secret of a great playing guitar! Similar to a car needing a tune-up\, a series of adjustments can be made for it to perform at its optimum. In this workshop you’ll learn the right way to do it\, using your own guitar – and it will work every time! \nGet ready to learn the art of a great guitar setup! \n\nClass Overview\n\nWhat influences the feel of the guitar\nWhy\, how & when to adjust the truss rod\nHow to adjust your action on any style of guitar\, spot-on every time\nHow to dial in the low-action setup\nHow to set intonation correctly\nHow to set pickup height optimally\nHow to set up pickup pole piece height\nDiscussions on string gauge\, playing style\, guitar designs and how they effect your setup\nTop manufacturer’s setup specs & more (included in your take-home Guidebook)\nAll guitar setup questions answered!\nAny type of electric guitar covered (Floyd Rose bridges\, tremolo\, hard tail\, etc)\n*Class approx. 4 hours in length\n\nRead more https://www.blackwoodguitarworks.com/guitar-repair-classes/guitar-setup-class/ \nPayment options below now include credit card\, PayPal\, and AfterPay. AfterPay allows you to split up your purchase over equal payments (on qualified purchases). Please contact direct for eTransfer (Canada only). A Paypal account is not required to pay when using your credit card. \nBe sure to whitelist the email: info(at)blackwoodguitarworks.com to ensure you receive all correspondence related to the class. If you do not receive your email registration receipt after making payment\, please check your spam folder. \nCancellation Policy:\nPlease be aware that there are no refunds for class registrations if you are unable to attend. Credits may be offered under specific circumstances and class formats only\, as determined by Blackwood Guitarworks and seating availability. Transferring registration to another individual is welcome if notified a minimum 24 hours prior to event. By registering for this event you are in agreement to our cancellation policy. \nPrices shown are in CAD funds.\nAvailability is shown below.\nPlease note the “Setup Class” runs 9am-1pm – “Maintenance & Electronics” is an optional add-on class and runs from 2pm-6pm unless otherwise specified.\nJoin the waitlist for new class announcements \n\n    Name:\n    \n \n\n    City\,_Prov:\n    \n \n\n	Email address: \n		\n\n \n\n\n\n	\n Leave this field empty if you're human:
URL:https://www.blackwoodguitarworks.com/class/precision-electric-guitar-setup-class-oct-12-los-angeles-ca/
LOCATION:Los Angeles Southwest College\, 1600 W Imperial Hwy\, Los Angeles\, CA\, 90047\, United States
CATEGORIES:Guitar Repair & Maintenance,guitar setups,In-Person Events
ATTACH;FMTTYPE=image/jpeg:https://www.blackwoodguitarworks.com/wp-content/uploads/2023/04/guitar-workshop-repair-1200x740-bw.jpg
ORGANIZER;CN="Jon 780-240-7833":MAILTO:info@blackwoodguitarworks.com
END:VEVENT
END:VCALENDAR