BEGIN:VCALENDAR
VERSION:2.0
PRODID:-//Blackwood Guitarworks - ECPv6.15.11//NONSGML v1.0//EN
CALSCALE:GREGORIAN
METHOD:PUBLISH
X-ORIGINAL-URL:https://www.blackwoodguitarworks.com
X-WR-CALDESC:Events for Blackwood Guitarworks
REFRESH-INTERVAL;VALUE=DURATION:PT1H
X-Robots-Tag:noindex
X-PUBLISHED-TTL:PT1H
BEGIN:VTIMEZONE
TZID:America/Edmonton
BEGIN:DAYLIGHT
TZOFFSETFROM:-0700
TZOFFSETTO:-0600
TZNAME:MDT
DTSTART:20240310T090000
END:DAYLIGHT
BEGIN:STANDARD
TZOFFSETFROM:-0600
TZOFFSETTO:-0700
TZNAME:MST
DTSTART:20241103T080000
END:STANDARD
BEGIN:DAYLIGHT
TZOFFSETFROM:-0700
TZOFFSETTO:-0600
TZNAME:MDT
DTSTART:20250309T090000
END:DAYLIGHT
BEGIN:STANDARD
TZOFFSETFROM:-0600
TZOFFSETTO:-0700
TZNAME:MST
DTSTART:20251102T080000
END:STANDARD
BEGIN:DAYLIGHT
TZOFFSETFROM:-0700
TZOFFSETTO:-0600
TZNAME:MDT
DTSTART:20260308T090000
END:DAYLIGHT
BEGIN:STANDARD
TZOFFSETFROM:-0600
TZOFFSETTO:-0700
TZNAME:MST
DTSTART:20261101T080000
END:STANDARD
BEGIN:DAYLIGHT
TZOFFSETFROM:-0700
TZOFFSETTO:-0600
TZNAME:MDT
DTSTART:20270314T090000
END:DAYLIGHT
BEGIN:STANDARD
TZOFFSETFROM:-0600
TZOFFSETTO:-0700
TZNAME:MST
DTSTART:20271107T080000
END:STANDARD
END:VTIMEZONE
BEGIN:VEVENT
DTSTART;TZID=America/Edmonton:20260207T090000
DTEND;TZID=America/Edmonton:20260208T170000
DTSTAMP:20260421T132731
CREATED:20250605T220505Z
LAST-MODIFIED:20251221T232816Z
UID:10000088-1770454800-1770570000@www.blackwoodguitarworks.com
SUMMARY:SOLD OUT - Guitar Repair Technician Training 201 Course Feb. 7-8\, 2026 (Calgary\, AB)
DESCRIPTION:Guitar Repair Technician Training 201 (GRT201) (in-person)\nGRT201 is the next step in our Guitar Repair Technician mentorship pathway\, tailored for graduates of GRT101—or equivalent experience (please contact first)—who are ready to learn professional-grade fret levelling\, recrowning\, and polishing. \nAcross two intensive days you’ll learn to interpret neck behavioral dynamics\, level frets with full-length support jigs\, restore perfect crowns\, dress smooth fret ends\, and fine-tune nut slots for glassy\, buzz-free playability. This is hands-on\, tool-in-hand training that turns “acceptable” fretwork into truly exceptional results. No minors permitted. \nSeats are limited. Learn more at the link below. \n \nGuitar Repair Technician Course GRT201 \n\n  \nPayment Options:\n\nCredit card: Follow the prompts and click the Pay Now button as shown below to checkout. Following payment\, you will receive your receipt and ticket to the email address you submitted. If you don’t receive these emails\, please check your spam folder. Mark the date on your calendar and gather the supplies needed as listed on the class page link above. See you at class!\nPayment plans: Payment plans are available upon request based on the regular price of the course (sale prices are not eligible). The standard terms are: 20% down payment to reserve your seat\, 30% due 60 days before the class date. Remaining balance due 30 days before the class date (no exceptions). To request a payment plan\, please email info(at)blackwoodguitarworks.com with your full name\, class location\, and phone number. An invoice will be issued accordingly.\nPhone-in: Please contact direct to pay by credit card over the phone.  \nPrices shown are in CAD funds.\n\n\n  \nCancellation Policy:\nPlease be aware that there are no refunds for class registrations or deposits paid if you are unable to attend. Credits may be offered under specific circumstances and class formats only\, as determined by Blackwood Guitarworks and seating availability. By registering for this event you are in agreement to our cancellation policy. \n 
URL:https://www.blackwoodguitarworks.com/class/guitar-repair-technician-training-201-course-feb-7-8-2026-calgary-ab/
LOCATION:UCAL Social Sciences Building (Room SS08)\, Use Google Maps Link\, Calgary\, AB\, Canada
CATEGORIES:fretwork,Guitar Repair & Maintenance,guitar repair technician training,In-Person Events
ATTACH;FMTTYPE=image/jpeg:https://www.blackwoodguitarworks.com/wp-content/uploads/2025/02/Fret-Repair-1000x750-2.jpg
ORGANIZER;CN="Jon 780-240-7833":MAILTO:info@blackwoodguitarworks.com
GEO:51.079277;-114.126487
X-APPLE-STRUCTURED-LOCATION;VALUE=URI;X-ADDRESS=UCAL Social Sciences Building (Room SS08) Use Google Maps Link Calgary AB Canada;X-APPLE-RADIUS=500;X-TITLE=Use Google Maps Link:geo:-114.126487,51.079277
END:VEVENT
BEGIN:VEVENT
DTSTART;TZID=America/Edmonton:20251101T090000
DTEND;TZID=America/Edmonton:20251102T170000
DTSTAMP:20260421T132731
CREATED:20250517T160846Z
LAST-MODIFIED:20251016T223414Z
UID:10000077-1761987600-1762102800@www.blackwoodguitarworks.com
SUMMARY:SOLD OUT - Guitar Repair Technician Training 101 Course Nov. 1-2\, 2025 (Calgary\, AB)
DESCRIPTION:Guitar Repair Technician Training 101 (GRT101) (in-person)\nGuitar Repair Technician Training 101 is part of our Guitar Repair Technician mentorship program designed specifically for those interested and dedicated to working in the industry as musical instrument repair professionals. \nThis foundational\, two-day course introduces you to the essential skills of professional guitar maintenance. You’ll learn precision setups (electric & acoustic)\, tackle common light repairs\, and gain a solid introduction to basic electronic work. Join this intensive\, hands-on training and start building the confidence you need for a future in guitar repair. No minors permitted. \nLearn more at the link below. \nGRT 101 \n \n\n  \nPayment Options:\n\nCredit card: Follow the prompts and click the Pay Now button as shown below to checkout. Following payment\, you will receive your receipt and ticket to the email address you submitted. If you don’t receive these emails\, please check your spam folder. Mark the date on your calendar and gather the supplies needed as listed on the class page link above. See you at class!\nPayment plans: Payment plans are available upon request based on the regular price of the course (sale prices are not eligible). The standard terms are: 20% down payment to reserve your seat\, 30% due 60 days before the class date. Remaining balance due 30 days before the class date (no exceptions). To request a payment plan\, please email info(at)blackwoodguitarworks.com with your full name\, class location\, and phone number. An invoice will be issued accordingly.\nPhone-in: Please contact direct to pay by credit card over the phone.  \nPrices shown are in CAD funds.\n\n\n  \nCancellation Policy:\nPlease be aware that there are no refunds for class registrations or deposits paid if you are unable to attend. Credits may be offered under specific circumstances and class formats only\, as determined by Blackwood Guitarworks and seating availability. By registering for this event you are in agreement to our cancellation policy. \n 
URL:https://www.blackwoodguitarworks.com/class/guitar-repair-technician-training-101-course-nov-1-2-2025-calgary-ab/
LOCATION:UCAL Social Sciences Building (Room SS08)\, Use Google Maps Link\, Calgary\, AB\, Canada
CATEGORIES:Guitar Repair & Maintenance,guitar repair technician training,guitar setups,Guitar Wiring,In-Person Events
ATTACH;FMTTYPE=image/jpeg:https://www.blackwoodguitarworks.com/wp-content/uploads/2023/03/guitar-gecdfc17c4_1920.jpg
ORGANIZER;CN="Jon 780-240-7833":MAILTO:info@blackwoodguitarworks.com
GEO:51.079277;-114.126487
X-APPLE-STRUCTURED-LOCATION;VALUE=URI;X-ADDRESS=UCAL Social Sciences Building (Room SS08) Use Google Maps Link Calgary AB Canada;X-APPLE-RADIUS=500;X-TITLE=Use Google Maps Link:geo:-114.126487,51.079277
END:VEVENT
END:VCALENDAR